BEGIN:VCALENDAR
VERSION:2.0
PRODID:-//Tukios.com/
BEGIN:VEVENT
UID:30d01599-d9d9-4a31-993d-99f3726ee4e7@www.pagelfuneralhome.com
DTSTAMP:20260424T193540Z
DTSTART:20260502T220000Z
DTEND:20260503T010000Z
SUMMARY:Visitation
DESCRIPTION:
URL:https://www.pagelfuneralhome.com/obituaries/deana-hollar
LOCATION: 701 Broad St  Edgewood IL 62426
GEO:38.9231641;-88.6653884
END:VEVENT
END:VCALENDAR