BEGIN:VCALENDAR
VERSION:2.0
PRODID:-//Tukios.com/
BEGIN:VEVENT
UID:4d855dc8-2626-492d-8632-d970eae54915@www.pagelfuneralhome.com
DTSTAMP:20260424T193652Z
DTSTART:20260503T010000Z
DTEND:20260503T020000Z
SUMMARY:Celebration of Life
DESCRIPTION:
URL:https://www.pagelfuneralhome.com/obituaries/deana-hollar
LOCATION: 701 Broad St  Edgewood IL 62426
GEO:38.9231641;-88.6653884
END:VEVENT
END:VCALENDAR