BEGIN:VCALENDAR
VERSION:2.0
PRODID:-//Tukios.com/
BEGIN:VEVENT
UID:7f9121e8-a2b8-4088-97c5-10de39ed8ab9@www.pagelfuneralhome.com
DTSTAMP:20260421T091207Z
DTSTART:20260418T160000Z
DTEND:20260418T170000Z
SUMMARY:Funeral Service
DESCRIPTION:
URL:https://www.pagelfuneralhome.com/obituaries/shari-hall
LOCATION: 701 Broad St  Edgewood IL 62426
GEO:38.9231641;-88.6653884
END:VEVENT
END:VCALENDAR